BEGIN:VCALENDAR
VERSION:2.0
PRODID:-//pretix//pretix.eu//
BEGIN:VTIMEZONE
TZID:Europe/Berlin
BEGIN:STANDARD
DTSTART:20001029T040000
RRULE:FREQ=YEARLY;BYDAY=-1SU;BYMONTH=10
TZNAME:CET
TZOFFSETFROM:+0200
TZOFFSETTO:+0100
END:STANDARD
BEGIN:DAYLIGHT
DTSTART:20000326T030000
RRULE:FREQ=YEARLY;BYDAY=-1SU;BYMONTH=3
TZNAME:CEST
TZOFFSETFROM:+0100
TZOFFSETTO:+0200
END:DAYLIGHT
END:VTIMEZONE
BEGIN:VEVENT
UID:pretix-django3000-3xpvu-0@django3000.fairetickets.de
DTSTART;TZID=Europe/Berlin:20260823T200000
DTEND;TZID=Europe/Berlin:20260823T210000
DESCRIPTION:Tickets: https://django3000.fairetickets.de/3xpvu/\nEinlass: 23
 .08.2026 18:00\nVeranstalter: Django 3000
DTSTAMP:20260421T094601Z
LOCATION:Biergarten Gasthaus Rote Wand\, Geitau 15\, 83735 Bayrischzell
SUMMARY:DJANGO 3000 - unplugged 2026 (Biergarten Gasthaus Rote Wand/Bayrisc
 hzell)
END:VEVENT
END:VCALENDAR
