BEGIN:VCALENDAR
VERSION:2.0
PRODID:-//pretix//pretix.eu//
BEGIN:VTIMEZONE
TZID:Europe/Berlin
BEGIN:STANDARD
DTSTART:20001029T040000
RRULE:FREQ=YEARLY;BYDAY=-1SU;BYMONTH=10
TZNAME:CET
TZOFFSETFROM:+0200
TZOFFSETTO:+0100
END:STANDARD
BEGIN:DAYLIGHT
DTSTART:20000326T030000
RRULE:FREQ=YEARLY;BYDAY=-1SU;BYMONTH=3
TZNAME:CEST
TZOFFSETFROM:+0100
TZOFFSETTO:+0200
END:DAYLIGHT
END:VTIMEZONE
BEGIN:VEVENT
UID:pretix-django3000-3mvb7-0@django3000.fairetickets.de
DTSTART;TZID=Europe/Berlin:20260726T200000
DTEND;TZID=Europe/Berlin:20260726T210000
DESCRIPTION:Tickets: https://django3000.fairetickets.de/3mvb7/\nEinlass: 26
 .07.2026 18:00\nVeranstalter: Django 3000
DTSTAMP:20260419T121404Z
LOCATION:Murrhardt Sommerpalast\, Zirkuszelt im Stadtgarten Murrhardt\, Wal
 terichsweg 1\, 71540 Murrhardt
SUMMARY:DJANGO 3000 - unplugged 2026 (Murrhardt/ Sommerpalast)
END:VEVENT
END:VCALENDAR
